BEGIN:VCALENDAR
VERSION:2.0
PRODID:-//www.ccgcinc.org//NONSGML kigkonsult.se iCalcreator 2.30.10//
CALSCALE:GREGORIAN
METHOD:PUBLISH
UID:31ee5653-db5d-4bbf-a9f7-460e1c95d253
X-WR-CALDESC:Community Conversation\, “Let’s Talk Healing Strategies: Publi
 c Health Crisis\, COVID-19\, and Racism. A Conversation with Black and Bro
 wn Males Ages 12-22.” This will take place on Thursday\, April 29\, 2021 f
 rom 6:00 PM - 8:00 PM in partnership with various faith-based\, academic\,
  and community organizations\, the Office of the Governor\, and the Depart
 ments of Mental Health and Addiction Services (DMHAS)\, and Children and F
 amilies (DCF).\n\nThe purpose of this event is to engage in dialogue on eq
 uity\, develop recommendations for local and larger systems improvements\,
  and to build and bridge community alliances. The agenda for the evening i
 ncludes brief remarks by the Commissioners from the Department of Mental H
 ealth and Addiction Services (DMHAS) and the Department of Children and Fa
 milies. The event will include conversation starters facilitating a dialog
 ue with Black and Brown Males Ages 12-22 regarding the Public Health Crisi
 s\, COVID-19\, and Racism.\n\nA Zoom link will be sent to the registered e
 mail on file prior to the event (for registration\, please ensure the emai
 l is correct and a number is listed in case we need to contact you for a c
 orrect email address).
X-WR-RELCALID:79fcf3a1a8df1fc51102e0b0043b70ed
X-WR-TIMEZONE:America/New_York
BEGIN:VTIMEZONE
TZID:America/New_York
BEGIN:STANDARD
TZNAME:EST
DTSTART:20201101T020000
TZOFFSETFROM:-0400
TZOFFSETTO:-0500
RDATE:20211107T020000
END:STANDARD
BEGIN:DAYLIGHT
TZNAME:EDT
DTSTART:20210314T020000
TZOFFSETFROM:-0500
TZOFFSETTO:-0400
RDATE:20220313T020000
END:DAYLIGHT
END:VTIMEZONE
BEGIN:VEVENT
UID:00fff405-3755-4c31-ac1d-ed01b36cc84c
DTSTAMP:20260424T031346Z
DESCRIPTION:Community Conversation\, “Let’s Talk Healing Strategies: Public
  Health Crisis\, COVID-19\, and Racism. A Conversation with Black and Brow
 n Males Ages 12-22.” This will take place on Thursday\, April 29\, 2021 fr
 om 6:00 PM - 8:00 PM in partnership with various faith-based\, academic\, 
 and community organizations\, the Office of the Governor\, and the Departm
 ents of Mental Health and Addiction Services (DMHAS)\, and Children and Fa
 milies (DCF).\n\nThe purpose of this event is to engage in dialogue on equ
 ity\, develop recommendations for local and larger systems improvements\, 
 and to build and bridge community alliances. The agenda for the evening in
 cludes brief remarks by the Commissioners from the Department of Mental He
 alth and Addiction Services (DMHAS) and the Department of Children and Fam
 ilies. The event will include conversation starters facilitating a dialogu
 e with Black and Brown Males Ages 12-22 regarding the Public Health Crisis
 \, COVID-19\, and Racism.\n\nA Zoom link will be sent to the registered em
 ail on file prior to the event (for registration\, please ensure the email
  is correct and a number is listed in case we need to contact you for a co
 rrect email address).
DTSTART;TZID=America/New_York:20210429T180000
DTEND;TZID=America/New_York:20210429T200000
LOCATION:https://www.eventbrite.com/e/lets-talk-a-virtual-community-convers
 ation-you-dont-want-to-miss-tickets-142233033833
SUMMARY:Community Conversation - “Let’s Talk Healing Strategies: Public Hea
 lth Crisis\, COVID-19\, and Racism. A Conversation with Black and Brown Ma
 les Ages 12-22.”
END:VEVENT
END:VCALENDAR
